Workbook

Sheet 1
A1: 2021年亳州交控集团春季人才招聘总成绩
A2: 准考证号 | B2: 应聘职位 | C2: 身份证后六位 | D2: 笔试成绩 | E2: 面试成绩 | F2: 总成绩
A3: 210060101 | B3: 工程技术人员 | C3: 204413 | D3: 69.4 | E3: =VLOOKUP(A3,[1]第一面试室!$C$3:$O$115,12,0) -> 81.6 | F3: =D3*0.4+E3*0.6 -> 76.72
A4: 210060102 | B4: 工程技术人员 | C4: 107761 | D4: 67 | E4: =VLOOKUP(A4,[1]第一面试室!$C$3:$O$115,12,0) -> 81.4 | F4: =D4*0.4+E4*0.6 -> 75.64
A5: 210060104 | B5: 工程技术人员 | C5: 208621 | D5: 68.6 | E5: =VLOOKUP(A5,[1]第一面试室!$C$3:$O$115,12,0) -> 70.6 | F5: =D5*0.4+E5*0.6 -> 69.8
A6: 210060108 | B6: 工程技术人员 | C6: 15395X | D6: 65.9 | E6: =VLOOKUP(A6,[1]第一面试室!$C$3:$O$115,12,0) -> 71.2 | F6: =D6*0.4+E6*0.6 -> 69.08
A7: 210060109 | B7: 工程技术人员 | C7: 132715 | D7: 68.2 | E7: =VLOOKUP(A7,[1]第一面试室!$C$3:$O$115,12,0) -> 78.4 | F7: =D7*0.4+E7*0.6 -> 74.32
A8: 210060111 | B8: 工程技术人员 | C8: 259039 | D8: 69.8 | E8: =VLOOKUP(A8,[1]第一面试室!$C$3:$O$115,12,0) -> 75 | F8: =D8*0.4+E8*0.6 -> 72.92
A9: 210060112 | B9: 工程技术人员 | C9: 203233 | D9: 74.2 | E9: =VLOOKUP(A9,[1]第一面试室!$C$3:$O$115,12,0) -> 75.8 | F9: =D9*0.4+E9*0.6 -> 75.16
A10: 210060113 | B10: 工程技术人员 | C10: 263950 | D10: 77.2 | E10: =VLOOKUP(A10,[1]第一面试室!$C$3:$O$115,12,0) -> 76.2 | F10: =D10*0.4+E10*0.6 -> 76.6
A11: 210060115 | B11: 工程技术人员 | C11: 189017 | D11: 66.9 | E11: =VLOOKUP(A11,[1]第一面试室!$C$3:$O$115,12,0) -> 79.8 | F11: =D11*0.4+E11*0.6 -> 74.64
A12: 210060116 | B12: 工程技术人员 | C12: 197617 | D12: 64.3 | E12: =VLOOKUP(A12,[1]第一面试室!$C$3:$O$115,12,0) -> 82.6 | F12: =D12*0.4+E12*0.6 -> 75.28
A13: 210060117 | B13: 工程技术人员 | C13: 217873 | D13: 70.3 | E13: =VLOOKUP(A13,[1]第一面试室!$C$3:$O$115,12,0) -> 84 | F13: =D13*0.4+E13*0.6 -> 78.52
A14: 210060118 | B14: 工程技术人员 | C14: 183519 | D14: 70 | E14: =VLOOKUP(A14,[1]第一面试室!$C$3:$O$115,12,0) -> 75.2 | F14: =D14*0.4+E14*0.6 -> 73.12
... A110: 210231323 | B110: 营销策划 | C110: 12283X | D110: 74.6 | E110: =VLOOKUP(A110,[1]第一面试室!$C$3:$O$115,12,0) -> 81.2 | F110: =D110*0.4+E110*0.6 -> 78.56
